BEGIN:VCALENDAR
VERSION:2.0
PRODID:-//Mader Touristik - ECPv4.6.14.1//NONSGML v1.0//EN
CALSCALE:GREGORIAN
METHOD:PUBLISH
X-WR-CALNAME:Mader Touristik
X-ORIGINAL-URL:https://mader-touristik.de
X-WR-CALDESC:Veranstaltungen für Mader Touristik
BEGIN:VEVENT
DTSTART;VALUE=DATE:20250412
DTEND;VALUE=DATE:20250413
DTSTAMP:20260420T154125
CREATED:20241114T152306Z
LAST-MODIFIED:20241114T152306Z
UID:13221-1744416000-1744502399@mader-touristik.de
SUMMARY:Blütenmarkt des Moselweinbergpfirsichs in Cochem
DESCRIPTION:Blütenmarkt des Moselweinbergpfirsichs in Cochem\n  \nCochem steht ganz im Zeichen der Blüte des MoselWein­berg­Pfir­sichs\, wenn auf dem Endertplatz der Blütenmarkt des MoselWein­berg­Pfir­sichs stattfindet. Von 11:00 bis 17:00 Uhr bieten die Stände eine große Vielfalt an Produkten wie Tee\, Brotaufstriche\, Liköre\, Pralinen und andere Leckereien\, die aus dieser köstlichen Frucht hergestellt werden und welche man hier nach Herzenslust probieren kann. Auch viele Anregungen zu den vielfältigen Nutzungs- und Ver­ar­bei­tungs­mög­lich­kei­ten\, zur Pflanzung und zur richtigen Pflege werden den Besuchern geboten. \n  \nProgramm:\n\nBusfahrt im modernen Reisebus\nFahrt zum Blütenmarkt des Moselweinbergpfirsichs nach Cochem\n\n  \nTermin:\nTag:               Samstag\, 12.04.2025\nAbfahrt:        ca. 08:30 – 09:30 Uhr\nAnkunft:       ca. 20:00 – 21:00 Uhr \n  \nPreis: \n42\,00 € pro Person\n(Bitte beachten: Die Reise findet ab 20 Teilnehmern statt) \n  \nAnmeldung:\nMader Busreisen GmbH\nHermannstraße 141\n66538 Neunkirchen\nTel: 06821 – 9430015\nE-Mail: mader-touristik@t-online.de \n
URL:https://mader-touristik.de/event/bluetenmarkt-des-moselweinbergpfirsichs-in-cochem/
CATEGORIES:besonders,Tagesfahrten
ATTACH;FMTTYPE=image/jpeg:https://mader-touristik.de/wp-content/uploads/2024/11/Blütenmarkt-Cochem.jpg
ORGANIZER;CN="Mader%20Touristik%20GmbH":MAILTO:mader-touristik@t-online.de
END:VEVENT
END:VCALENDAR