BEGIN:VCALENDAR
VERSION:2.0
PRODID:-//Mader Touristik - ECPv4.6.14.1//NONSGML v1.0//EN
CALSCALE:GREGORIAN
METHOD:PUBLISH
X-WR-CALNAME:Mader Touristik
X-ORIGINAL-URL:https://mader-touristik.de
X-WR-CALDESC:Veranstaltungen für Mader Touristik
BEGIN:VEVENT
DTSTART;VALUE=DATE:20250810
DTEND;VALUE=DATE:20250811
DTSTAMP:20260422T081611
CREATED:20241121T081633Z
LAST-MODIFIED:20241121T081633Z
UID:13275-1754784000-1754870399@mader-touristik.de
SUMMARY:Erlebnispark Tripsdrill in Cleebronn
DESCRIPTION:Erlebnispark Tripsdrill in Cleebronn\n  \nWer Spaß und Spannung für die ganze Familie sucht\, wird im Erlebnispark Tripsdrill bei Stuttgart fündig. Über 100 originelle Attraktionen sorgen für Begeisterung: Rasante Achterbahnen\, spritzige Wildwasserfahrten\, gemütliche Attraktionen und Spaß für Kinder – all das bietet Deutschlands erster Freizeitpark. Der rund um das Thema Schwaben anno 1880 gestaltete Erlebnispark verspricht inmitten schwäbischer Idylle jede Menge Spaß. Und damit nicht genug. Im Eintritt ist auch das Wildparadies Tripsdrill enthalten – mit über 60 Tierarten\, Rundgängen mit dem Wildhüter und Flugvorführungen in der Falknerei. Ob Kindergeburtstag oder Familienausflug – Tripsdrill ist stets eine Reise wert. Tripsdrill gehört zu den beliebtesten Ausflugszielen in Baden-Württemberg. \nProgramm:\n\nBusfahrt im modernen Reisebus\nFahrt nach Cleebronn zum Erlebnispark Tripsdrill\ninkl. Eintritt (Tageskarte für Freizeitpark und Wildparadies)\n\nTermin:\nTag:               Sonntag\, 10.08.2025\nAbfahrt:        ca. 05:30 – 06:30 Uhr\nAnkunft:       ca. 21:00 – 22:00 Uhr \n  \nPreis: \n80\,00 € pro Person\n(Bitte beachten: Die Reise findet ab 20 Teilnehmern statt) \nKinder von 3 bis 12 Jahren erhalten 25% Rabatt bei zwei vollzahlenden Erwachsenen.\nBei einem Erwachsenen erhalten Sie 10% Vergünstigung \nAnmeldung:\nMader Busreisen GmbH\nHermannstraße 141\n66538 Neunkirchen\nTel: 06821 – 9430015\nE-Mail: mader-touristik@t-online.de \n
URL:https://mader-touristik.de/event/erlebnispark-tripsdrill-in-cleebronn/
CATEGORIES:besonders,Tagesfahrten
ATTACH;FMTTYPE=image/jpeg:https://mader-touristik.de/wp-content/uploads/2024/11/Tripsdrill.jpg
ORGANIZER;CN="Mader%20Touristik%20GmbH":MAILTO:mader-touristik@t-online.de
END:VEVENT
END:VCALENDAR