BEGIN:VCALENDAR
VERSION:2.0
PRODID:-//Mader Touristik - ECPv4.6.14.1//NONSGML v1.0//EN
CALSCALE:GREGORIAN
METHOD:PUBLISH
X-WR-CALNAME:Mader Touristik
X-ORIGINAL-URL:https://mader-touristik.de
X-WR-CALDESC:Veranstaltungen für Mader Touristik
BEGIN:VEVENT
DTSTART;VALUE=DATE:20250809
DTEND;VALUE=DATE:20250810
DTSTAMP:20260422T103045
CREATED:20241121T080422Z
LAST-MODIFIED:20241121T080422Z
UID:13273-1754697600-1754783999@mader-touristik.de
SUMMARY:Rhein in Flammen Koblenz
DESCRIPTION:Rhein in Flammen in Koblenz\n  \nWas vor langer Zeit begann\, gehört auch heute noch so untrennbar zum Mittelrheintal wie sein Wein: die Rhein in Flammen Veranstaltungen. Für Tausende von Menschen gehören Sie unbedingt in den Kalender. An fünf Terminen zwischen Mai und September erstrahlen Orte und Kulturlandschaften. Burgen\, Rheinanlagen und Höhenfeuerwerke begeistern die Zuschauer an Land wie auch auf den Schiffen. Begleitet werden die Schiffskonvois vom Donnergrollen der Prachtfeuerwerke\, deren Echo sich in den Berghängen bricht und die das ganze Tal erzittern lassen. \nProgramm:\n\nBusfahrt im modernen Reisebus\nFahrt zu Rhein in Flammen nach Koblenz\nFreie Verfügung in Koblenz\ninkl. Freigetränk auf der Hinfahrt\n\nTermin:\nTag:               Samstag\, 09.08.2025\nAbfahrt:        ca. 12:00 – 13:00 Uhr\nAnkunft:       ca. 01:00 – 02:00 Uhr \n  \nPreis: \n49\,00 € pro Person\n(Bitte beachten: Die Reise findet ab 20 Teilnehmern statt) \n  \nAnmeldung:\nMader Busreisen GmbH\nHermannstraße 141\n66538 Neunkirchen\nTel: 06821 – 9430015\nE-Mail: mader-touristik@t-online.de \n
URL:https://mader-touristik.de/event/rhein-in-flammen-koblenz/
CATEGORIES:besonders,Tagesfahrten
ATTACH;FMTTYPE=image/jpeg:https://mader-touristik.de/wp-content/uploads/2024/11/Rhein-in-Flammen.jpg
ORGANIZER;CN="Mader%20Touristik%20GmbH":MAILTO:mader-touristik@t-online.de
END:VEVENT
END:VCALENDAR