BEGIN:VCALENDAR
VERSION:2.0
PRODID:-//Mader Touristik - ECPv4.6.14.1//NONSGML v1.0//EN
CALSCALE:GREGORIAN
METHOD:PUBLISH
X-WR-CALNAME:Mader Touristik
X-ORIGINAL-URL:https://mader-touristik.de
X-WR-CALDESC:Veranstaltungen für Mader Touristik
BEGIN:VEVENT
DTSTART;VALUE=DATE:20250806
DTEND;VALUE=DATE:20250807
DTSTAMP:20260422T120333
CREATED:20241120T141948Z
LAST-MODIFIED:20241120T141948Z
UID:13270-1754438400-1754524799@mader-touristik.de
SUMMARY:Seniorenfahrt August nach Karlsruhe
DESCRIPTION:Seniorenfahrt August\nKarlsruhe\n  \nAuch dieses Jahr bieten wir wieder die beliebte „Seniorenfahrt“ mit an. Ohne Speis\, aber dafür mit ausreichend Zeit reisen wir durch verschiedene Städte\, die Sie auf eigene Faust erkunden können.\n Das Reiseziel wird sich auch bei den Seniorenfahrten 2025 jeden Monat ändern. \n  \nProgramm:\n\nBusfahrt im modernen Reisebus\nFahrt nach Karlsruhe\ninkl. kleiner Verlosung auf der Rückfahrt\n\n  \nTermin:\nTag:               Mittwoch\, 06.08.2025\nAbfahrt:        ca. 08:30 – 09:30 Uhr\nAnkunft:       ca. 19:00 – 20:00 Uhr \n  \nPreis: \n35\,00 € pro Person\n(Bitte beachten: Die Reise findet ab 25 Teilnehmern statt) \n  \nAnmeldung:\nMader Busreisen GmbH\nHermannstraße 141\n66538 Neunkirchen\nTel: 06821 – 9430015\nE-Mail: mader-touristik@t-online.de \n
URL:https://mader-touristik.de/event/seniorenfahrt-august-nach-karlsruhe/
CATEGORIES:besonders,Tagesfahrten
ATTACH;FMTTYPE=image/jpeg:https://mader-touristik.de/wp-content/uploads/2024/11/Seniorenfahrt-August.jpg
ORGANIZER;CN="Mader%20Touristik%20GmbH":MAILTO:mader-touristik@t-online.de
END:VEVENT
END:VCALENDAR